BEGIN:VCALENDAR
VERSION:2.0
PRODID:Spatie calendar-links
BEGIN:VEVENT
UID:974a6c2c9b9c9b36133b4c3bb8affdc7
SUMMARY:Besser lehren\, besser lernen: Didaktik und Präsentationstechnik für Ärzt:innen
DTSTAMP:20251107T080000Z
DTSTART:20251107T080000Z
DTEND:20251107T153000Z
DESCRIPTION:\n\nhttps://cbme.siwf.ch/workshops/besser-lehren-besser-lernen-winterthur-2511\n
LOCATION:Kantonsspital Winterthur\, Brauerstrasse 15\, 8400 Winterthur
END:VEVENT
END:VCALENDAR