BEGIN:VCALENDAR
VERSION:2.0
PRODID:Spatie calendar-links
BEGIN:VEVENT
UID:c601bc50c184fc09d87ec74a8509ef20
SUMMARY:Basic leadership skills
DTSTAMP:20261019T070000Z
DTSTART:20261019T070000Z
DTEND:20261019T143000Z
DESCRIPTION:\n\nhttps://cbme.siwf.ch/workshops/basic-leadership-skills-online-261019\n
END:VEVENT
END:VCALENDAR