BEGIN:VCALENDAR
VERSION:2.0
PRODID:Spatie calendar-links
BEGIN:VEVENT
UID:9e572b3a1e84d9559c7ff2f0102b7650
SUMMARY:Basic leadership skills
DTSTAMP:20251110T080000Z
DTSTART:20251110T080000Z
DTEND:20251110T153000Z
DESCRIPTION:\n\nhttps://cbme.siwf.ch/workshops/basic-leadership-skills-online-251110\n
END:VEVENT
END:VCALENDAR