BEGIN:VCALENDAR
VERSION:2.0
PRODID:Spatie calendar-links
BEGIN:VEVENT
UID:2743d749951646a3e9fc71e4cd96a009
SUMMARY:Basic leadership skills
DTSTAMP:20250702T070000Z
DTSTART:20250702T070000Z
DTEND:20250702T143000Z
DESCRIPTION:\n\nhttps://cbme.siwf.ch/workshops/basic-leadership-skills-lucerne-250702\n
LOCATION:Luzerner Kantonsspital\, Spitalstrasse\, 6000 Luzern
END:VEVENT
END:VCALENDAR