BEGIN:VCALENDAR
VERSION:2.0
PRODID:Spatie calendar-links
BEGIN:VEVENT
UID:8feef4d0055b8e1fec7318b286e150ff
SUMMARY:Advanced leadership skills
DTSTAMP:20261020T070000Z
DTSTART:20261020T070000Z
DTEND:20261021T143000Z
DESCRIPTION:\n\nhttps://cbme.siwf.ch/workshops/advanced-leadership-skills-online-261020\n
END:VEVENT
END:VCALENDAR