BEGIN:VCALENDAR
VERSION:2.0
PRODID:Spatie calendar-links
BEGIN:VEVENT
UID:bfe0af49c4bda6acb663b090e05f81f7
SUMMARY:Advanced leadership skills
DTSTAMP:20251111T080000Z
DTSTART:20251111T080000Z
DTEND:20251112T153000Z
DESCRIPTION:\n\nhttps://cbme.siwf.ch/workshops/advanced-leadership-skills-online-251111\n
END:VEVENT
END:VCALENDAR