BEGIN:VCALENDAR
VERSION:2.0
PRODID:Spatie calendar-links
BEGIN:VEVENT
UID:58794866d93db98062bab1a61365d319
SUMMARY:Advanced leadership skills
DTSTAMP:20241114T080000Z
DTSTART:20241114T080000Z
DTEND:20241115T153000Z
DESCRIPTION:\n\nhttps://cbme.siwf.ch/workshops/advanced-leadership-skills-online-241113\n
END:VEVENT
END:VCALENDAR