BEGIN:VCALENDAR
VERSION:2.0
PRODID:Spatie calendar-links
BEGIN:VEVENT
UID:ba6c17d35e84bca1b2ef3dc30c221464
SUMMARY:Presentation skills
DTSTAMP:20261106T080000Z
DTSTART:20261106T080000Z
DTEND:20261106T153000Z
DESCRIPTION:\n\nhttps://cbme.siwf.ch/workshops/Presentation-skills-winterthur-261106\n
LOCATION:Kantonsspital Winterthur\, Brauerstrasse 15\, 8400 Winterthur
END:VEVENT
END:VCALENDAR