BEGIN:VCALENDAR
VERSION:2.0
PRODID:Spatie calendar-links
BEGIN:VEVENT
UID:5e9b7c72febf2d8d1067c65de15d6251
SUMMARY:Presentation skills
DTSTAMP:20260313T080000Z
DTSTART:20260313T080000Z
DTEND:20260313T153000Z
DESCRIPTION:\n\nhttps://cbme.siwf.ch/workshops/Presentation-skills-winterthur-260313\n
LOCATION:Kantonsspital Winterthur\, Brauerstrasse 15\, 8400 Winterthur
END:VEVENT
END:VCALENDAR