BEGIN:VCALENDAR
VERSION:2.0
PRODID:Spatie calendar-links
BEGIN:VEVENT
UID:8f2d0a3be93e920a9cde710387da0253
SUMMARY:Presentation skills
DTSTAMP:20260624T070000Z
DTSTART:20260624T070000Z
DTEND:20260624T143000Z
DESCRIPTION:\n\nhttps://cbme.siwf.ch/workshops/Presentation-skills-luzern-260624\n
LOCATION:Luzerner Kantonsspital\, Spitalstrasse\, 6000 Luzern
END:VEVENT
END:VCALENDAR